BEGIN:VCALENDAR
VERSION:2.0
PRODID:-//CWOCC - ECPv6.15.1.1//NONSGML v1.0//EN
CALSCALE:GREGORIAN
METHOD:PUBLISH
X-WR-CALNAME:CWOCC
X-ORIGINAL-URL:https://cwocc.org
X-WR-CALDESC:Events for CWOCC
REFRESH-INTERVAL;VALUE=DURATION:PT1H
X-Robots-Tag:noindex
X-PUBLISHED-TTL:PT1H

BEGIN:VEVENT
DTSTART;TZID=America/Chicago:20250918T080000
DTEND;TZID=America/Chicago:20250920T190000
DTSTAMP:20260423T133542
CREATED:20250220T184402Z
LAST-MODIFIED:20250220T192211Z
UID:2934-1758182400-1758394800@cwocc.org
SUMMARY:Ragnar Trail Run Weekend
DESCRIPTION:
URL:https://cwocc.org/calendar/ragnar-trail-run-weekend/
LOCATION:Nine Mile County Forest\, Wausau\, WI
CATEGORIES:Other Events
ATTACH;FMTTYPE=image/jpeg:https://cwocc.org/wp-content/uploads/2024/12/sponsor-master-Gold_0002_Layer-9.jpg
END:VEVENT
BEGIN:VEVENT
DTSTART;TZID=America/Chicago:20250816T000000
DTEND;TZID=America/Chicago:20250816T000000
DTSTAMP:20260423T133542
CREATED:20250220T184346Z
LAST-MODIFIED:20250220T185020Z
UID:2933-1755302400-1755302400@cwocc.org
SUMMARY:Underdown Trail Races
DESCRIPTION:
URL:https://cwocc.org/calendar/underdown-trail-races/
CATEGORIES:MTB Races
END:VEVENT
BEGIN:VEVENT
DTSTART;TZID=America/Chicago:20250814T180000
DTEND;TZID=America/Chicago:20250814T200000
DTSTAMP:20260423T133542
CREATED:20250220T184346Z
LAST-MODIFIED:20250220T191729Z
UID:2932-1755194400-1755201600@cwocc.org
SUMMARY:CWOCC Group Ride Party - Underdown/Prairie Dells
DESCRIPTION:
URL:https://cwocc.org/calendar/cwocc-group-ride-party-3/
LOCATION:Underdown/Prairie Dells
CATEGORIES:CWOCC events
ATTACH;FMTTYPE=image/jpeg:https://cwocc.org/wp-content/uploads/2024/12/trail-pics_0002s_0001_untitled-0096.jpg
END:VEVENT
BEGIN:VEVENT
DTSTART;TZID=America/Chicago:20250713T000000
DTEND;TZID=America/Chicago:20250713T000000
DTSTAMP:20260423T133542
CREATED:20250220T184346Z
LAST-MODIFIED:20250220T184346Z
UID:2930-1752364800-1752364800@cwocc.org
SUMMARY:CWOCC Group Ride Party
DESCRIPTION:
URL:https://cwocc.org/calendar/cwocc-group-ride-party-2/
END:VEVENT
BEGIN:VEVENT
DTSTART;TZID=America/Chicago:20250615T080000
DTEND;TZID=America/Chicago:20250616T190000
DTSTAMP:20260423T133542
CREATED:20250220T184346Z
LAST-MODIFIED:20250220T203335Z
UID:2929-1749974400-1750100400@cwocc.org
SUMMARY:Trek/WORS Race Weekend - Nine Mile & Sylvan Hill
DESCRIPTION:
URL:https://cwocc.org/calendar/trek-wors-race-weekend/
LOCATION:Nine Mile County Forest\, Wausau\, WI
CATEGORIES:MTB Races
END:VEVENT
BEGIN:VEVENT
DTSTART;TZID=America/Chicago:20250612T180000
DTEND;TZID=America/Chicago:20250612T200000
DTSTAMP:20260423T133542
CREATED:20250220T184344Z
LAST-MODIFIED:20250220T203555Z
UID:2928-1749751200-1749758400@cwocc.org
SUMMARY:CWOCC Group Ride Party - Nine Mile
DESCRIPTION:
URL:https://cwocc.org/calendar/cwocc-group-ride-party/
LOCATION:Nine Mile County Forest\, Wausau\, WI
END:VEVENT
BEGIN:VEVENT
DTSTART;TZID=America/Chicago:20250601T000000
DTEND;TZID=America/Chicago:20250601T000000
DTSTAMP:20260423T133542
CREATED:20250220T184344Z
LAST-MODIFIED:20250220T185542Z
UID:2927-1748736000-1748736000@cwocc.org
SUMMARY:Sylvan Hill Trails Open
DESCRIPTION:
URL:https://cwocc.org/calendar/trails-open-3/
END:VEVENT
BEGIN:VEVENT
DTSTART;TZID=America/Chicago:20250522T180000
DTEND;TZID=America/Chicago:20250522T200000
DTSTAMP:20260423T133542
CREATED:20250220T184344Z
LAST-MODIFIED:20250220T185747Z
UID:2926-1747936800-1747944000@cwocc.org
SUMMARY:CWOOC Group Ride Party - Ringle Trails
DESCRIPTION:
URL:https://cwocc.org/calendar/cwooc-group-ride-party/
LOCATION:Ringle Trails
END:VEVENT
BEGIN:VEVENT
DTSTART;VALUE=DATE:20250507
DTEND;VALUE=DATE:20250508
DTSTAMP:20260423T133542
CREATED:20250507T131111Z
LAST-MODIFIED:20250507T131304Z
UID:3118-1746576000-1746662399@cwocc.org
SUMMARY:CWOCC Youth Ride
DESCRIPTION:Registration for Youth Ride and Advanced Youth Ride programs are open! Trained coaches will be assisted by CWOCC volunteers and Wausau United Ride Student-Athletes to teach basic mountain bike skills\, trail etiquette and get your riders on the trails. Register early as we do expect these sessions to sell out. Please see “Volunteer” option at upper right corner of registration page and consider helping on the trail. Youth Ride Program is open to children ages 6-12 (no training wheels please) Advanced Youth Rider is open for ages 9-12 and those that have the endurance to bike 5 to 7 miles per hour. Learn more and register at https://runsignup.com/Race/WI/Wausau/CWOCCYouthRiderProgram
URL:https://cwocc.org/calendar/cwocc-youth-ride/
CATEGORIES:CWOCC events
END:VEVENT
BEGIN:VEVENT
DTSTART;TZID=America/Chicago:20250417T202500
DTEND;TZID=America/Chicago:20250417T202500
DTSTAMP:20260423T133542
CREATED:20250220T184344Z
LAST-MODIFIED:20250418T132738Z
UID:2924-1744921500-1744921500@cwocc.org
SUMMARY:Ringle & Underdown Trails Open
DESCRIPTION:Please check https://cwocc.org/our-trails-and-conditions/ for the current trail conditions.
URL:https://cwocc.org/calendar/trails-open/
END:VEVENT
BEGIN:VEVENT
DTSTART;TZID=America/Chicago:20250225T083000
DTEND;TZID=America/Chicago:20250225T170000
DTSTAMP:20260423T133542
CREATED:20250218T191804Z
LAST-MODIFIED:20250219T154721Z
UID:2783-1740472200-1740502800@cwocc.org
SUMMARY:Snowbound in the Underdown
DESCRIPTION:Experience fat tire biking and snowshoe racing on the unique winter trails starting at Prairie Dells.  Bikers start first with a journey up the Prairie River gorge before hitting the hills and lakes of Underdown for rides of 10\, 15 and 25 miles.  Six-mile snowshoers will get to the majestic Prairie Dells while three-milers will take in the overlooks of the new Heinemania Loop.  The wonder of this place in winter is something that has to be seen to be believed. Courses will be well-marked. See course map below. \nYou choose your adventure – fat tire bike or snowshoe. If you sign up for both\, you automatically receive 50% of the snowshoe event during registration! \n\n\n\n\n\n\nFat bike: \n\n\nShort Race: approximately 10 mile lap. Terrain is rolling\, flowy\, and scenic. A chance to ride the famous Prairie Dells River Trail \n\n\n\n\nMedium Race: approximately 15 mile lap with a blend of fast Prairie Dells flow and a vertical loop that is one big hill after another. \n\n\nLong Race: approximately 25 mile lap with challenging\, hilly terrain and a double dose of the Prairie Dells.  \n\n\nSnowshoe: \n\n\nShort Race: approximately 3 mile lap. Terrain is rolling and scenic on Underdown’s newest trail\, Heinemania \n\n\nLong Race: approximately 6 mile lap. Terrain is rolling\, flowy\, and scenic with views of the majestic Prairie Dells canyon. \n\n\nNo snowshoes\, no problem! We have Northern Lites race snowshoes available for free\, just check the option during registration!
URL:https://cwocc.org/calendar/snowbound-in-the-underdown/
CATEGORIES:Snow Bike Races
ATTACH;FMTTYPE=image/jpeg:https://cwocc.org/wp-content/uploads/2024/12/trail-pics_0004s_0000_garybardenphotography-1-3.jpg
END:VEVENT
BEGIN:VEVENT
DTSTART;TZID=America/Chicago:20260423T133542
DTEND;TZID=America/Chicago:20260423T133542
DTSTAMP:20260423T133542
CREATED:20250220T184402Z
LAST-MODIFIED:20250220T184918Z
UID:2935-0-0@cwocc.org
SUMMARY:Nine Mile Closing Party
DESCRIPTION:
URL:https://cwocc.org/calendar/nine-mile-closing-party/
CATEGORIES:CWOCC events
ATTACH;FMTTYPE=image/jpeg:https://cwocc.org/wp-content/uploads/2025/02/CWOCCEOY-3002.jpg
END:VEVENT
BEGIN:VEVENT
DTSTART;TZID=America/Chicago:20260423T133542
DTEND;TZID=America/Chicago:20260423T133542
DTSTAMP:20260423T133542
CREATED:20250220T184346Z
LAST-MODIFIED:20250220T184346Z
UID:2931-0-0@cwocc.org
SUMMARY:Wausau 24 Weekend
DESCRIPTION:
URL:https://cwocc.org/calendar/wausau-24-weekend/
END:VEVENT
END:VCALENDAR