BEGIN:VCALENDAR
VERSION:2.0
PRODID:-//CWOCC - ECPv6.15.1.1//NONSGML v1.0//EN
CALSCALE:GREGORIAN
METHOD:PUBLISH
X-ORIGINAL-URL:https://cwocc.org
X-WR-CALDESC:Events for CWOCC
REFRESH-INTERVAL;VALUE=DURATION:PT1H
X-Robots-Tag:noindex
X-PUBLISHED-TTL:PT1H
BEGIN:VTIMEZONE
TZID:America/Chicago
BEGIN:DAYLIGHT
TZOFFSETFROM:-0600
TZOFFSETTO:-0500
TZNAME:CDT
DTSTART:20250309T080000
END:DAYLIGHT
BEGIN:STANDARD
TZOFFSETFROM:-0500
TZOFFSETTO:-0600
TZNAME:CST
DTSTART:20251102T070000
END:STANDARD
END:VTIMEZONE
BEGIN:VEVENT
DTSTART;TZID=America/Chicago:20250816T000000
DTEND;TZID=America/Chicago:20250816T000000
DTSTAMP:20260423T145642
CREATED:20250220T184346Z
LAST-MODIFIED:20250220T185020Z
UID:2933-1755302400-1755302400@cwocc.org
SUMMARY:Underdown Trail Races
DESCRIPTION:
URL:https://cwocc.org/calendar/underdown-trail-races/
LOCATION:WI
CATEGORIES:MTB Races
END:VEVENT
BEGIN:VEVENT
DTSTART;TZID=America/Chicago:20250615T080000
DTEND;TZID=America/Chicago:20250616T190000
DTSTAMP:20260423T145642
CREATED:20250220T184346Z
LAST-MODIFIED:20250220T203335Z
UID:2929-1749974400-1750100400@cwocc.org
SUMMARY:Trek/WORS Race Weekend - Nine Mile & Sylvan Hill
DESCRIPTION:
URL:https://cwocc.org/calendar/trek-wors-race-weekend/
LOCATION:Nine Mile County Forest\, Wausau\, WI
CATEGORIES:MTB Races
END:VEVENT
END:VCALENDAR